BEGIN:VCALENDAR
VERSION:2.0
PRODID:-//Library Market//iCal Export//EN
BEGIN:VEVENT
SUMMARY:One-On-One Medicare Consulting
UID:78195
DTSTAMP:20260421T035200Z
DTSTART:20260617T140000Z
DTEND:20260617T160000Z
LOCATION:Westhampton Free Library, 7 Library Avenue, Westhampton Beach, NY
  11978, United States
ROOM: Multipurpose Room (C)
DESCRIPTION:One on One Medicare Consulting Wednesday, June 17 from 10:00a
 m - 12:00pm Register with staff for an appointment of up to one half-hour
  to meet individually with a volunteer from the HIICAP program.Westhampton
  Free Library strives to create respectful and family-friendly experiences
 .  We ask that all participants in library programs be mindful and polite
 .  Guests who are disruptive, engage in bullying, or otherwise do not con
 duct themselves in a respectful manner in accordance with the Library&#039
 ;s Maintenance of Public Order at Library Facilities and Rules for Use of 
 the Library policies, may be removed. We thank you in advance for your cou
 rtesy.
URL:https://westhamptonlibrary.librarymarket.com/index.php/event/one-one-m
 edicare-consulting-78195
END:VEVENT
END:VCALENDAR
