BEGIN:VCALENDAR
VERSION:2.0
PRODID:-//Library Market//iCal Export//EN
BEGIN:VEVENT
SUMMARY:Cricut Koozie
UID:78247
DTSTAMP:20260424T202100Z
DTSTART:20260616T163000Z
DTEND:20260616T173000Z
LOCATION:Westhampton Free Library, 7 Library Avenue, Westhampton Beach, NY
  11978, United States
ROOM: Multipurpose Room (C)
DESCRIPTION:Cricut KoozieTuesday, June 16 at 12:30pmLearn to use the Cricu
 t machine to customize your own koozie for summer!Westhampton Free Library
  strives to create respectful and family-friendly experiences.  We ask th
 at all participants in library programs be mindful and polite. Guests who 
 are disruptive, engage in bullying, or otherwise do not conduct themselves
  in a respectful manner in accordance with the Library&#039;s Maintenance 
 of Public Order at Library Facilities and Rules for Use of the Library pol
 icies, may be removed. We thank you in advance for your courtesy.
URL:https://westhamptonlibrary.librarymarket.com/index.php/event/cricut-ko
 ozie-78247
END:VEVENT
END:VCALENDAR
