BEGIN:VCALENDAR
VERSION:2.0
PRODID:-//Library Market//iCal Export//EN
BEGIN:VEVENT
SUMMARY:Bread, Butter, Salt
UID:78254
DTSTAMP:20260420T205700Z
DTSTART:20260509T170000Z
DTEND:20260509T190000Z
LOCATION:Westhampton Free Library, 7 Library Avenue, Westhampton Beach, NY
  11978, United States
ROOM: Meeting Room AB
DESCRIPTION:Bread, Butter, SaltFriday, May 9 from 1:00-3:00pmLearn to care
  for sourdough starter, explore baking basics, and taste a variety of brea
 ds paired with different butters and salts to compare flavors and textures
 .Registration is $3.Westhampton Free Library strives to create respectful 
 and family-friendly experiences.  We ask that all participants in library
  programs be mindful and polite. Guests who are disruptive, engage in bull
 ying, or otherwise do not conduct themselves in a respectful manner in acc
 ordance with the Library&#039;s Maintenance of Public Order at Library Fac
 ilities and Rules for Use of the Library policies, may be removed. We than
 k you in advance for your courtesy.
URL:https://westhamptonlibrary.librarymarket.com/index.php/event/bread-but
 ter-salt-78254
END:VEVENT
END:VCALENDAR
