BEGIN:VCALENDAR
VERSION:2.0
PRODID:-//Library Market//iCal Export//EN
BEGIN:VEVENT
SUMMARY:Games Club
UID:78658
DTSTAMP:20260420T035400Z
DTSTART:20260617T150000Z
DTEND:20260617T170000Z
LOCATION:Westhampton Free Library, 7 Library Avenue, Westhampton Beach, NY
  11978, United States
ROOM: Meeting Room B
DESCRIPTION:Dates/Times in May will change from week to week. Please check
  the online calendar for the latest information.In June:Wednesdays from 11
 :00am-1:00pm and Fridays from 12:30-3:30pm (excl. June 19)(Check online ca
 lendar for any updates in times). Play Mah Jongg, canasta, or other small
  group games.To ensure a proper number of players, please contact Shelley
  (sschw300@aol.com or 917-405-7692) or Wanda (azmoodeh06@yahoo.com or 646-
 670-7281) to RSVP. Please be prepared to bring your own cards or equipment
 .This is not a library-sponsored event.Westhampton Free Library strives to
  create respectful and family-friendly experiences. We ask that all partic
 ipants in library programs be mindful and polite.  Guests who are disrupt
 ive, engage in bullying, or otherwise do not conduct themselves in a respe
 ctful manner in accordance with the Library&#039;s Maintenance of Public O
 rder at Library Facilities and Rules for Use of the Library policies, may 
 be removed. We thank you in advance for your courtesy.
URL:https://westhamptonlibrary.librarymarket.com/index.php/event/games-clu
 b-78658
END:VEVENT
END:VCALENDAR
