BEGIN:VCALENDAR
VERSION:2.0
PRODID:-//Library Market//iCal Export//EN
BEGIN:VEVENT
SUMMARY:Beaver Lake Condominiums
UID:78707
DTSTAMP:20260425T194800Z
DTSTART:20260515T171500Z
DTEND:20260515T184500Z
LOCATION:Westhampton Free Library, 7 Library Avenue, Westhampton Beach, NY
  11978, United States
ROOM: Meeting Room AB
DESCRIPTION:
URL:https://westhamptonlibrary.librarymarket.com/index.php/event/beaver-la
 ke-condominiums-78707
END:VEVENT
END:VCALENDAR
