BEGIN:VCALENDAR
VERSION:2.0
PRODID:-//Library Market//iCal Export//EN
BEGIN:VEVENT
SUMMARY:Craft Group
UID:78722
DTSTAMP:20260420T035400Z
DTSTART:20260616T210000Z
DTEND:20260616T220000Z
LOCATION:Westhampton Free Library, 7 Library Avenue, Westhampton Beach, NY
  11978, United States
ROOM: Multipurpose Room (C)
DESCRIPTION:Craft GroupSaturdays, May 16 &amp; June 20 at 2:30pmJoin other
  crafters to create, chat, and share ideas. Not working on anything right 
 now? The Library will have supplies handy!Westhampton Free Library strives
  to create respectful and family-friendly experiences.  We ask that all p
 articipants in library programs be mindful and polite. Guests who are disr
 uptive, engage in bullying, or otherwise do not conduct themselves in a re
 spectful manner in accordance with the Library&#039;s Maintenance of Publi
 c Order at Library Facilities and Rules for Use of the Library policies, m
 ay be removed. We thank you in advance for your courtesy.
URL:https://westhamptonlibrary.librarymarket.com/index.php/event/craft-gro
 up-78722
END:VEVENT
END:VCALENDAR
