BEGIN:VCALENDAR
VERSION:2.0
PRODID:-//Library Market//iCal Export//EN
BEGIN:VEVENT
SUMMARY:Community Support Specialist
UID:78772
DTSTAMP:20260423T101300Z
DTSTART:20261109T150000Z
DTEND:20261109T190000Z
LOCATION:Westhampton Free Library, 7 Library Avenue, Westhampton Beach, NY
  11978, United States
ROOM: Geek Desk
DESCRIPTION:Are you looking for support services in the area?Â Our Communi
 ty Support Specialist is here to help connect you with local resources, in
 cluding healthcare, housing, and social services.Â No appointment needed.Â
  
URL:https://westhamptonlibrary.librarymarket.com/index.php/event/community
 -support-specialist-78772
END:VEVENT
END:VCALENDAR
