BEGIN:VCALENDAR
VERSION:2.0
PRODID:-//Library Market//iCal Export//EN
BEGIN:VEVENT
SUMMARY:Author Talk: Nikki Mammano
UID:78780
DTSTAMP:20260425T155100Z
DTSTART:20260629T180000Z
DTEND:20260629T190000Z
LOCATION:Westhampton Free Library, 7 Library Avenue, Westhampton Beach, NY
  11978, United States
ROOM: Meeting Room AB
DESCRIPTION:Author Talk: Nikki MammanoMonday, June 29 at 2:00pmIn her evoc
 ative, unsanitized memoir, Breaking Good, Mammano explores her lived exper
 ience of addiction, recovery, and the criminal underworld of Waikiki - and
  what it takes to rebuild a life. Westhampton Free Library strives to cre
 ate respectful and family-friendly experiences.  We ask that all particip
 ants in library programs be mindful and polite. Guests who are disruptive,
  engage in bullying, or otherwise do not conduct themselves in a respectfu
 l manner in accordance with the Library&#039;s Maintenance of Public Order
  at Library Facilities and Rules for Use of the Library policies, may be r
 emoved. We thank you in advance for your courtesy.
URL:https://westhamptonlibrary.librarymarket.com/index.php/event/author-ta
 lk-nikki-mammano-78780
END:VEVENT
END:VCALENDAR
