BEGIN:VCALENDAR
VERSION:2.0
PRODID:-//Library Market//iCal Export//EN
BEGIN:VEVENT
SUMMARY:Felted Toadstool Mushroom
UID:78223
DTSTAMP:20260420T114600Z
DTSTART:20260515T200000Z
DTEND:20260515T213000Z
LOCATION:Westhampton Free Library, 7 Library Avenue, Westhampton Beach, NY
  11978, United States
ROOM: Multipurpose Room (C)
DESCRIPTION:Felted Toadstool MushroomFriday, May 15 from 4:00-5:30pmOur fa
 orite felter Dana is back! Join us to make the perfect piece for spring.Re
 gistration is $10.Westhampton Free Library strives to create respectful an
 d family-friendly experiences.  We ask that all participants in library p
 rograms be mindful and polite. Guests who are disruptive, engage in bullyi
 ng, or otherwise do not conduct themselves in a respectful manner in accor
 dance with the Library&#039;s Maintenance of Public Order at Library Facil
 ities and Rules for Use of the Library policies, may be removed. We thank 
 you in advance for your courtesy.
URL:https://westhamptonlibrary.librarymarket.com/event/felted-toadstool-mu
 shroom-78223
END:VEVENT
END:VCALENDAR
