BEGIN:VCALENDAR
VERSION:2.0
PRODID:-//Library Market//iCal Export//EN
BEGIN:VEVENT
SUMMARY:Book Bedazzling
UID:78224
DTSTAMP:20260421T052200Z
DTSTART:20260522T200000Z
DTEND:20260522T220000Z
LOCATION:Westhampton Free Library, 7 Library Avenue, Westhampton Beach, NY
  11978, United States
ROOM: Multipurpose Room (C)
DESCRIPTION:Book BedazzlingFriday, May 22 from 4:00-6:00pmJoin us to bedaz
 zle a book with flat-backed rhinestones! Supplies will be provided, but pa
 trons are encouraged to bring a book of their own to decorate.Westhampton 
 Free Library strives to create respectful and family-friendly experiences.
   We ask that all participants in library programs be mindful and polite.
  Guests who are disruptive, engage in bullying, or otherwise do not conduc
 t themselves in a respectful manner in accordance with the Library&#039;s 
 Maintenance of Public Order at Library Facilities and Rules for Use of the
  Library policies, may be removed. We thank you in advance for your courte
 sy.
URL:https://westhamptonlibrary.librarymarket.com/event/book-bedazzling-782
 24
END:VEVENT
END:VCALENDAR
