BEGIN:VCALENDAR
VERSION:2.0
PRODID:-//Library Market//iCal Export//EN
BEGIN:VEVENT
SUMMARY:Botanical Bookmarks
UID:78225
DTSTAMP:20260425T102500Z
DTSTART:20260528T183000Z
DTEND:20260528T193000Z
LOCATION:Westhampton Free Library, 7 Library Avenue, Westhampton Beach, NY
  11978, United States
ROOM: Multipurpose Room (C)
DESCRIPTION:Botanical BookmarksThursday, May 28 at 2:30pmChoose from a var
 iety of preset designs and finish the bookmark with ribbon. All materials 
 provided.Registration is $3.Westhampton Free Library strives to create res
 pectful and family-friendly experiences.  We ask that all participants in
  library programs be mindful and polite. Guests who are disruptive, engage
  in bullying, or otherwise do not conduct themselves in a respectful manne
 r in accordance with the Library&#039;s Maintenance of Public Order at Lib
 rary Facilities and Rules for Use of the Library policies, may be removed.
  We thank you in advance for your courtesy.
URL:https://westhamptonlibrary.librarymarket.com/event/botanical-bookmarks
 -78225
END:VEVENT
END:VCALENDAR
