BEGIN:VCALENDAR
VERSION:2.0
PRODID:-//Library Market//iCal Export//EN
BEGIN:VEVENT
SUMMARY:Intro to the Makerspace
UID:78251
DTSTAMP:20260424T202100Z
DTSTART:20260616T200000Z
DTEND:20260616T210000Z
LOCATION:Westhampton Free Library, 7 Library Avenue, Westhampton Beach, NY
  11978, United States
ROOM: Meeting Room AB
DESCRIPTION:Intro to the MakerspaceTuesday, June 16 at 4:00pmGet to know t
 he Library&#039;s makerspace! Learn about what you can create, and how to 
 schedule one-on-on appointments for future projects.Westhampton Free Libra
 ry strives to create respectful and family-friendly experiences.  We ask 
 that all participants in library programs be mindful and polite. Guests wh
 o are disruptive, engage in bullying, or otherwise do not conduct themselv
 es in a respectful manner in accordance with the Library&#039;s Maintenanc
 e of Public Order at Library Facilities and Rules for Use of the Library p
 olicies, may be removed. We thank you in advance for your courtesy.
URL:https://westhamptonlibrary.librarymarket.com/event/intro-makerspace-78
 251
END:VEVENT
END:VCALENDAR
