BEGIN:VCALENDAR
VERSION:2.0
PRODID:-//Library Market//iCal Export//EN
BEGIN:VEVENT
SUMMARY:Rainbow Fruit Salsa
UID:78255
DTSTAMP:20260424T202100Z
DTSTART:20260613T170000Z
DTEND:20260613T180000Z
LOCATION:Westhampton Free Library, 7 Library Avenue, Westhampton Beach, NY
  11978, United States
ROOM: Meeting Room AB
DESCRIPTION:Rainbow Fruit SalsaSaturday, June 13 at 1:00pmCreate a refresh
 ing summer fruit salsa using a variety of colorful fruits.Registration is 
 $3Westhampton Free Library strives to create respectful and family-friendl
 y experiences.  We ask that all participants in library programs be mindf
 ul and polite. Guests who are disruptive, engage in bullying, or otherwise
  do not conduct themselves in a respectful manner in accordance with the L
 ibrary&#039;s Maintenance of Public Order at Library Facilities and Rules 
 for Use of the Library policies, may be removed. We thank you in advance f
 or your courtesy.
URL:https://westhamptonlibrary.librarymarket.com/event/rainbow-fruit-salsa
 -78255
END:VEVENT
END:VCALENDAR
