BEGIN:VCALENDAR
VERSION:2.0
PRODID:-//Library Market//iCal Export//EN
BEGIN:VEVENT
SUMMARY:Games Club
UID:78653
DTSTAMP:20260421T124100Z
DTSTART:20260605T153000Z
DTEND:20260605T173000Z
LOCATION:Westhampton Free Library, 7 Library Avenue, Westhampton Beach, NY
  11978, United States
ROOM: Meeting Room B
DESCRIPTION:Dates/Times in May will change from week to week. Please check
  the online calendar for the latest information.In June:Wednesdays from 11
 :00am-1:00pm and Fridays from 12:30-3:30pm (excl. June 19)(Check online ca
 lendar for any updates in times). Play Mah Jongg, bridge, or other small 
 group games.To ensure a proper number of players, please contact Shelley 
 (sschw300@aol.com or 631-998-0775) or Wanda (azmoodeh06@yahoo.com or 646-6
 70-7281) to RSVP. Please be prepared to bring your own cards or equipment.
 This is not a library-sponsored event.Westhampton Free Library strives to 
 create respectful and family-friendly experiences. We ask that all partici
 pants in library programs be mindful and polite.  Guests who are disrupti
 ve, engage in bullying, or otherwise do not conduct themselves in a respec
 tful manner in accordance with the Library&#039;s Maintenance of Public Or
 der at Library Facilities and Rules for Use of the Library policies, may b
 e removed. We thank you in advance for your courtesy.
URL:https://westhamptonlibrary.librarymarket.com/event/games-club-78653
END:VEVENT
END:VCALENDAR
