BEGIN:VCALENDAR
VERSION:2.0
PRODID:-//Library Market//iCal Export//EN
BEGIN:VEVENT
SUMMARY:Tea and the BBC Lite
UID:78779
DTSTAMP:20260425T120200Z
DTSTART:20260624T180000Z
DTEND:20260624T200000Z
LOCATION:Westhampton Free Library, 7 Library Avenue, Westhampton Beach, NY
  11978, United States
ROOM: Multipurpose Room (C)
DESCRIPTION:Tea and the BBC LiteWednesday, June 24 at 2:00pmA spot of tea 
 and a little nibble with fellow BBC fans. Limited registration. Westhampt
 on Free Library strives to create respectful and family-friendly experienc
 es.  We ask that all participants in library programs be mindful and poli
 te. Guests who are disruptive, engage in bullying, or otherwise do not con
 duct themselves in a respectful manner in accordance with the Library&#039
 ;s Maintenance of Public Order at Library Facilities and Rules for Use of 
 the Library policies, may be removed. We thank you in advance for your cou
 rtesy.
URL:https://westhamptonlibrary.librarymarket.com/event/tea-and-bbc-lite-78
 779
END:VEVENT
END:VCALENDAR
