BEGIN:VCALENDAR
VERSION:2.0
PRODID:-//Library Market//iCal Export//EN
BEGIN:VEVENT
SUMMARY:Games Club
UID:78832
DTSTAMP:20260425T120200Z
DTSTART:20260528T160000Z
DTEND:20260528T183000Z
LOCATION:Westhampton Free Library, 7 Library Avenue, Westhampton Beach, NY
  11978, United States
ROOM: Meeting Room B
DESCRIPTION:May: Friday May 1, Thursday May 14, Friday May 22, and Thursda
 y May 28 from 12:00-2:30pm; Wednesday, May 6 from 11:00am-1:30pm; June: W
 ednesdays from 11:00am-1:00pm and Fridays from 12:30-3:30pm (excl. June 19
 )(Check online calendar for any updates in times). Play Mah Jongg, canast
 a, or other small group games.To ensure a proper number of players, pleas
 e contact Shelley (sschw300@aol.com or 917-405-7692) or Wanda (azmoodeh06@
 yahoo.com or 646-670-7281) to RSVP. Please be prepared to bring your own c
 ards or equipment.This is not a library-sponsored event.Westhampton Free L
 ibrary strives to create respectful and family-friendly experiences. We as
 k that all participants in library programs be mindful and polite.  Guest
 s who are disruptive, engage in bullying, or otherwise do not conduct them
 selves in a respectful manner in accordance with the Library&#039;s Mainte
 nance of Public Order at Library Facilities and Rules for Use of the Libra
 ry policies, may be removed. We thank you in advance for your courtesy.
URL:https://westhamptonlibrary.librarymarket.com/event/games-club-78832
END:VEVENT
END:VCALENDAR
